BEGIN:VCALENDAR
VERSION:2.0
PRODID:-//wp-events-plugin.com//7.2.3.1//EN
TZID:Europe/Zurich
X-WR-TIMEZONE:Europe/Zurich
BEGIN:VEVENT
UID:120@swissalpineadventure.com
DTSTART;TZID=Europe/Zurich:20220514T100000
DTEND;TZID=Europe/Zurich:20220514T120000
DTSTAMP:20220402T093707Z
URL:https://swissalpineadventure.com/events/winsport-days-saa-taster-sessi
 on/
SUMMARY:Winsport Days - SAA Taster Session
DESCRIPTION:Windsport Days – Come and experience the joy of wind sports o
 n the beautiful Aegeri lake with Swiss Alpine Adventure and friends
ATTACH;FMTTYPE=image/jpeg:https://swissalpineadventure.com/wp-content/uplo
 ads/2022/02/G0477317_1596908600695-01-scaled.jpeg
CATEGORIES:Introduction,Sailing,Watersports,Windsurfing
LOCATION:Sailing Club Aegeri\, Segelclub Aegeri\, Oberägeri\, Zug\, 6315\,
  Zug\, Switzerland
GEO:47.133808;8.608563
X-APPLE-STRUCTURED-LOCATION;VALUE=URI;X-ADDRESS=Segelclub Aegeri\, Oberäge
 ri\, Zug\, 6315\, Zug\, Switzerland;X-APPLE-RADIUS=100;X-TITLE=Sailing Clu
 b Aegeri:geo:47.133808,8.608563
END:VEVENT
BEGIN:VTIMEZONE
TZID:Europe/Zurich
X-LIC-LOCATION:Europe/Zurich
BEGIN:DAYLIGHT
DTSTART:20220327T030000
TZOFFSETFROM:+0100
TZOFFSETTO:+0200
TZNAME:CEST
END:DAYLIGHT
END:VTIMEZONE
END:VCALENDAR