BEGIN:VCALENDAR
VERSION:2.0
PRODID:-//wp-events-plugin.com//7.2.3.1//EN
TZID:Europe/Zurich
X-WR-TIMEZONE:Europe/Zurich
BEGIN:VEVENT
UID:82@swissalpineadventure.com
DTSTART;TZID=Europe/Zurich:20220520T180000
DTEND;TZID=Europe/Zurich:20220520T203000
DTSTAMP:20210909T215411Z
URL:https://swissalpineadventure.com/events/windsurfing-taster-session-2/
SUMMARY:Windsurfing - Taster Session
DESCRIPTION:Windsurfing is probably one of the purest forms of wind or wate
 r sports where you experience direct contact with both the wind and water.
  Come and give it a go on our windsurfing taster session. 
ATTACH;FMTTYPE=image/jpeg:https://swissalpineadventure.com/wp-content/uplo
 ads/2021/01/DSC_9262-01-1-scaled.jpeg
CATEGORIES:Afterwork Activity,Beginner,Introduction,Skills
 Training,Windsurfing
LOCATION:Harbour Beach\, Zug\, Hafenplatz \, Zug\, Zug\, 6300\, Switzerland
GEO:47.172963;8.504124
X-APPLE-STRUCTURED-LOCATION;VALUE=URI;X-ADDRESS=Hafenplatz \, Zug\, Zug\, 6
 300\, Switzerland;X-APPLE-RADIUS=100;X-TITLE=Harbour Beach\, Zug:geo:47.17
 2963,8.504124
END:VEVENT
BEGIN:VTIMEZONE
TZID:Europe/Zurich
X-LIC-LOCATION:Europe/Zurich
BEGIN:DAYLIGHT
DTSTART:20220327T030000
TZOFFSETFROM:+0100
TZOFFSETTO:+0200
TZNAME:CEST
END:DAYLIGHT
END:VTIMEZONE
END:VCALENDAR