BEGIN:VCALENDAR
VERSION:2.0
PRODID:-//wp-events-plugin.com//7.2.3.1//EN
TZID:Europe/Zurich
X-WR-TIMEZONE:Europe/Zurich
BEGIN:VEVENT
UID:84@swissalpineadventure.com
DTSTART;TZID=Europe/Zurich:20220610T180000
DTEND;TZID=Europe/Zurich:20220610T203000
DTSTAMP:20210909T214740Z
URL:https://swissalpineadventure.com/events/windsurfing-rental-coaching-se
 ssion-5/
SUMMARY:Windsurfing Rental/Coaching Session
DESCRIPTION:Windsurfng Rental/Coaching Session\, For anyone who has tried w
 indsurfing in the past and would like to get out and practice with some co
 aching
ATTACH;FMTTYPE=image/jpeg:https://swissalpineadventure.com/wp-content/uplo
 ads/2021/06/GOPR6973_1622373898288-01.jpeg
CATEGORIES:Watersports,Windsurfing
LOCATION:Harbour Beach\, Zug\, Hafenplatz \, Zug\, Zug\, 6300\, Switzerland
GEO:47.172963;8.504124
X-APPLE-STRUCTURED-LOCATION;VALUE=URI;X-ADDRESS=Hafenplatz \, Zug\, Zug\, 6
 300\, Switzerland;X-APPLE-RADIUS=100;X-TITLE=Harbour Beach\, Zug:geo:47.17
 2963,8.504124
END:VEVENT
BEGIN:VTIMEZONE
TZID:Europe/Zurich
X-LIC-LOCATION:Europe/Zurich
BEGIN:DAYLIGHT
DTSTART:20220327T030000
TZOFFSETFROM:+0100
TZOFFSETTO:+0200
TZNAME:CEST
END:DAYLIGHT
END:VTIMEZONE
END:VCALENDAR