BEGIN:VCALENDAR
VERSION:2.0
PRODID:-//wp-events-plugin.com//7.2.3.1//EN
TZID:Europe/Zurich
X-WR-TIMEZONE:Europe/Zurich
BEGIN:VEVENT
UID:81@swissalpineadventure.com
DTSTART;TZID=Europe/Zurich:20220521T100000
DTEND;TZID=Europe/Zurich:20220522T160000
DTSTAMP:20220519T182124Z
URL:https://swissalpineadventure.com/events/windsurfing-improver-weekend-2
 /
SUMMARY:Windsurfing - Improver Weekend
DESCRIPTION:You have already tried windsurfing and would like to improve yo
 ur skills early in the summer. This weekend of coaching includes all equip
 ment required to get you on the water and help you improve your skills. 
ATTACH;FMTTYPE=image/jpeg:https://swissalpineadventure.com/wp-content/uplo
 ads/2021/01/20200529160408_IMG_1317-01-scaled.jpeg
CATEGORIES:Introduction,Skills Training,Watersports,Windsurfing
LOCATION:Harbour Beach\, Zug\, Hafenplatz \, Zug\, Zug\, 6300\, Switzerland
GEO:47.172963;8.504124
X-APPLE-STRUCTURED-LOCATION;VALUE=URI;X-ADDRESS=Hafenplatz \, Zug\, Zug\, 6
 300\, Switzerland;X-APPLE-RADIUS=100;X-TITLE=Harbour Beach\, Zug:geo:47.17
 2963,8.504124
END:VEVENT
BEGIN:VTIMEZONE
TZID:Europe/Zurich
X-LIC-LOCATION:Europe/Zurich
BEGIN:DAYLIGHT
DTSTART:20220327T030000
TZOFFSETFROM:+0100
TZOFFSETTO:+0200
TZNAME:CEST
END:DAYLIGHT
END:VTIMEZONE
END:VCALENDAR