BEGIN:VCALENDAR
VERSION:2.0
PRODID:-//wp-events-plugin.com//7.2.3.1//EN
TZID:Europe/Zurich
X-WR-TIMEZONE:Europe/Zurich
BEGIN:VEVENT
UID:75@swissalpineadventure.com
DTSTART;TZID=Europe/Zurich:20210911T100000
DTEND;TZID=Europe/Zurich:20210911T160000
DTSTAMP:20210908T093958Z
URL:https://swissalpineadventure.com/events/windsurfing-improver-coaching-
 day-2/
SUMMARY:Windsurfing - Improver Coaching Day
DESCRIPTION:You have already tried windsurfing and would like to improve yo
 ur skills early in the summer. This weekend of coaching includes all equip
 ment required to get you on the water and help you improve your skills. 
ATTACH;FMTTYPE=image/jpeg:https://swissalpineadventure.com/wp-content/uplo
 ads/2021/01/20200529160408_IMG_1317-01-scaled.jpeg
CATEGORIES:Introduction,Skills Training,Watersports,Windsurfing
LOCATION:Surfspot Sihlsee\, Surfsport (Hohport)\, Euthal\, Schwyz\, 8840\, 
 Einsiedeln\, Switzerland
GEO:47.090593;8.819082
X-APPLE-STRUCTURED-LOCATION;VALUE=URI;X-ADDRESS=Surfsport (Hohport)\, Eutha
 l\, Schwyz\, 8840\, Einsiedeln\, Switzerland;X-APPLE-RADIUS=100;X-TITLE=Su
 rfspot Sihlsee:geo:47.090593,8.819082
END:VEVENT
BEGIN:VTIMEZONE
TZID:Europe/Zurich
X-LIC-LOCATION:Europe/Zurich
BEGIN:DAYLIGHT
DTSTART:20210328T030000
TZOFFSETFROM:+0100
TZOFFSETTO:+0200
TZNAME:CEST
END:DAYLIGHT
END:VTIMEZONE
END:VCALENDAR