BEGIN:VCALENDAR
VERSION:2.0
PRODID:-//wp-events-plugin.com//7.2.3.1//EN
TZID:Europe/Zurich
X-WR-TIMEZONE:Europe/Zurich
BEGIN:VEVENT
UID:144@swissalpineadventure.com
DTSTART;TZID=Europe/Zurich:20221002T110000
DTEND;TZID=Europe/Zurich:20221002T170000
DTSTAMP:20220923T152859Z
URL:https://swissalpineadventure.com/events/trail-fun-day-davos/
SUMMARY:Trail Fun Day Davos Jakobshorn &amp\; Rinerhorn
DESCRIPTION:We (Anna &amp\; Peter) would love to share a couple of our favo
 urite local trails in a one-day Mountainbike adventure.\nWe start in Davos
  Platz at 11 am and we plan to ride in the Jakobshorn + Rinerhorn area. It
  depends a bit on weather &amp\; conditions and your preference\, but we
 ’re looking into doing parts of the Alp Epics &amp\; one or two other aw
 esome trails. We’re generally looking to use the gondola (so you’ll ne
 ed a ticket for that)\, but there will still be some uphill involved\, pro
 bably a few 100m overall.\nImportant to know: To join us\, you need to be 
 comfortable biking on S2 trails with an occasional S3 passage. We are not 
 official MTB guides\, so please be aware you need to be able to look after
  yourselves and your safety. AND we’re happy to help and tell you all we
  know about mountain biking our home trails\, of course.\nWho is this for?
  Intermediate-level mountain bikers who prefer downhill over uphill and ar
 e looking for some flowy alpine trail fun along with nice convos &amp\; co
 nnection.\nMeeting Point: Davos Platz in front of the Jakobshorn Gondola s
 tation right next to the railway station.\nGetting there: From Zurich HB\,
  take the IC3 at 08:38 from platform 8 (please check the platform in advan
 ce). You will arrive in Davos Platz at 10:57. Don’t forget to make a bik
 e reservation in advance! Cost: You will need a day ticket for the gondola
  rides. We can help you to get a ticket once you arrive\, or you can book 
 in advance on www.davosklostersmountains.ch for 55.- total.
ATTACH;FMTTYPE=image/jpeg:https://swissalpineadventure.com/wp-content/uplo
 ads/2022/09/PXL_20220921_150609049.jpg
CATEGORIES:Day Trip,Intermediate,Mountain Bike
LOCATION:Jacobshorn Valley Station\, Jakobshorn Talstation\, Davos Platz\, 
 Grisons\, Prättigau/Davos\, Switzerland
GEO:46.791649;9.822033
X-APPLE-STRUCTURED-LOCATION;VALUE=URI;X-ADDRESS=Jakobshorn Talstation\, Dav
 os Platz\, Grisons\, Prättigau/Davos\, Switzerland;X-APPLE-RADIUS=100;X-T
 ITLE=Jacobshorn Valley Station:geo:46.791649,9.822033
END:VEVENT
BEGIN:VTIMEZONE
TZID:Europe/Zurich
X-LIC-LOCATION:Europe/Zurich
BEGIN:DAYLIGHT
DTSTART:20220327T030000
TZOFFSETFROM:+0100
TZOFFSETTO:+0200
TZNAME:CEST
END:DAYLIGHT
END:VTIMEZONE
END:VCALENDAR