BEGIN:VCALENDAR
VERSION:2.0
PRODID:-//wp-events-plugin.com//7.2.3.1//EN
TZID:Europe/Zurich
X-WR-TIMEZONE:Europe/Zurich
BEGIN:VEVENT
UID:59@swissalpineadventure.com
DTSTART;TZID=Europe/Zurich:20210604T180000
DTEND;TZID=Europe/Zurich:20210604T210000
DTSTAMP:20210519T182309Z
URL:https://swissalpineadventure.com/events/sunset-sailing/
SUMMARY:Sunset Sailing
DESCRIPTION:A relaxing sunset sail on lake Zug after a hard week at work. N
 o experience necessary.
ATTACH;FMTTYPE=image/jpeg:https://swissalpineadventure.com/wp-content/uplo
 ads/2021/05/20210409185518_IMG_5420-01-scaled.jpeg
CATEGORIES:Afterwork Activity,Sailing,Watersports
LOCATION:Zug Harbour\, Hafenplatz \, Zug\, Zug\, 6304\, Switzerland
GEO:47.170785;8.506165
X-APPLE-STRUCTURED-LOCATION;VALUE=URI;X-ADDRESS=Hafenplatz \, Zug\, Zug\, 6
 304\, Switzerland;X-APPLE-RADIUS=100;X-TITLE=Zug Harbour:geo:47.170785,8.5
 06165
END:VEVENT
BEGIN:VTIMEZONE
TZID:Europe/Zurich
X-LIC-LOCATION:Europe/Zurich
BEGIN:DAYLIGHT
DTSTART:20210328T030000
TZOFFSETFROM:+0100
TZOFFSETTO:+0200
TZNAME:CEST
END:DAYLIGHT
END:VTIMEZONE
END:VCALENDAR