BEGIN:VCALENDAR
VERSION:2.0
PRODID:-//wp-events-plugin.com//7.2.3.1//EN
TZID:Europe/Zurich
X-WR-TIMEZONE:Europe/Zurich
BEGIN:VEVENT
UID:14@swissalpineadventure.com
DTSTART;TZID=Europe/Zurich:20220130T060000
DTEND;TZID=Europe/Zurich:20220213T160000
DTSTAMP:20210928T072345Z
URL:https://swissalpineadventure.com/event-recurring/sunday-ski-tour/
SUMMARY:Skitour ++
DESCRIPTION:A somewhat physically demanding skitour within approximately tw
 o hours of Zurich with a certified UIAGM Mountain Guide. 
ATTACH;FMTTYPE=image/jpeg:https://swissalpineadventure.com/wp-content/uplo
 ads/2021/01/20210302_212622-01-1024x768-1.jpeg
CATEGORIES:Day Trip,Off-Piste Ski,Skitour
LOCATION:Sihlpost\, Zurich\, Sihlpost\, Zurich\, Zurich\, 8004\, District Z
 urich\, Switzerland
GEO:47.377204;8.535433
X-APPLE-STRUCTURED-LOCATION;VALUE=URI;X-ADDRESS=Sihlpost\, Zurich\, Zurich\
 , 8004\, District Zurich\, Switzerland;X-APPLE-RADIUS=100;X-TITLE=Sihlpost
 \, Zurich:geo:47.377204,8.535433
END:VEVENT
BEGIN:VTIMEZONE
TZID:Europe/Zurich
X-LIC-LOCATION:Europe/Zurich
BEGIN:STANDARD
DTSTART:20211031T020000
TZOFFSETFROM:+0200
TZOFFSETTO:+0100
TZNAME:CET
END:STANDARD
END:VTIMEZONE
END:VCALENDAR