BEGIN:VCALENDAR
VERSION:2.0
PRODID:-//wp-events-plugin.com//7.2.3.1//EN
TZID:Europe/Zurich
X-WR-TIMEZONE:Europe/Zurich
BEGIN:VEVENT
UID:118@swissalpineadventure.com
DTSTART;TZID=Europe/Zurich:20220319T090000
DTEND;TZID=Europe/Zurich:20220320T140000
DTSTAMP:20220307T105943Z
URL:https://swissalpineadventure.com/events/ski-weekend-in-parsenn-davos-k
 losters/
SUMMARY:Ski Weekend in Parsenn Davos/Klosters
DESCRIPTION:Informal ski get together in the Davos/Klosters ski area. For t
 hose who can already ski (on-piste) and would like to enjoy a weekend of s
 ociable on-piste skiing in the Davos/Klosters area. 
ATTACH;FMTTYPE=image/jpeg:https://swissalpineadventure.com/wp-content/uplo
 ads/2022/03/highres_500673366-scaled.jpeg
CATEGORIES:Winter Sports
LOCATION:Parsenn Valley Station\, Parsennbahn Talstation\, Davos\, Canton G
 risons\, Prättigau/Davos District\, Switzerland
GEO:46.808274;9.838659
X-APPLE-STRUCTURED-LOCATION;VALUE=URI;X-ADDRESS=Parsennbahn Talstation\, Da
 vos\, Canton Grisons\, Prättigau/Davos District\, Switzerland;X-APPLE-RAD
 IUS=100;X-TITLE=Parsenn Valley Station:geo:46.808274,9.838659
END:VEVENT
BEGIN:VTIMEZONE
TZID:Europe/Zurich
X-LIC-LOCATION:Europe/Zurich
BEGIN:STANDARD
DTSTART:20211031T020000
TZOFFSETFROM:+0200
TZOFFSETTO:+0100
TZNAME:CET
END:STANDARD
END:VTIMEZONE
END:VCALENDAR