BEGIN:VCALENDAR
VERSION:2.0
PRODID:-//wp-events-plugin.com//7.2.3.1//EN
TZID:Europe/Zurich
X-WR-TIMEZONE:Europe/Zurich
BEGIN:VEVENT
UID:173@swissalpineadventure.com
DTSTART;TZID=Europe/Zurich:20240217T060000
DTEND;TZID=Europe/Zurich:20240217T160000
DTSTAMP:20240105T152646Z
URL:https://swissalpineadventure.com/events/saturday-ski-tour-3-2024-02-17
 /
SUMMARY:Saturday Ski Tour
DESCRIPTION:An enjoyable Skitour to make the most of the winter landscape i
 n the mountains. The tour will be approximately 1000 to 1300m of ascent an
 d be led by a qualified local UIAGM Mountain Guide. 
ATTACH;FMTTYPE=image/jpeg:https://swissalpineadventure.com/wp-content/uplo
 ads/2022/01/20170212131036_2-01.jpeg
CATEGORIES:Off-Piste Ski,Skitour,Winter Sports
LOCATION:Sihlpost\, Zurich\, Sihlpost\, Zurich\, Zurich\, 8004\, District Z
 urich\, Switzerland
GEO:47.377204;8.535433
X-APPLE-STRUCTURED-LOCATION;VALUE=URI;X-ADDRESS=Sihlpost\, Zurich\, Zurich\
 , 8004\, District Zurich\, Switzerland;X-APPLE-RADIUS=100;X-TITLE=Sihlpost
 \, Zurich:geo:47.377204,8.535433
END:VEVENT
BEGIN:VTIMEZONE
TZID:Europe/Zurich
X-LIC-LOCATION:Europe/Zurich
BEGIN:STANDARD
DTSTART:20231029T020000
TZOFFSETFROM:+0200
TZOFFSETTO:+0100
TZNAME:CET
END:STANDARD
END:VTIMEZONE
END:VCALENDAR