BEGIN:VCALENDAR
VERSION:2.0
PRODID:-//wp-events-plugin.com//7.2.3.1//EN
TZID:Europe/Zurich
X-WR-TIMEZONE:Europe/Zurich
BEGIN:VEVENT
UID:140@swissalpineadventure.com
DTSTART;TZID=Europe/Zurich:20230211T060000
DTEND;TZID=Europe/Zurich:20230211T160000
DTSTAMP:20230214T152300Z
URL:https://swissalpineadventure.com/events/saturday-ski-tour-2-2023-02-11
 /
SUMMARY:Saturday Ski Tour
DESCRIPTION:An enjoyable Skitour to make the most of the winter landscape i
 n the mountains. The tour will be approximately 1000 to 1300m of ascent an
 d be led by a qualified local UIAGM Mountain Guide. 
ATTACH;FMTTYPE=image/jpeg:https://swissalpineadventure.com/wp-content/uplo
 ads/2021/01/IMG_9013-01-scaled-e1610272110718.jpeg
CATEGORIES:Day Trip,Off-Piste Ski,Skitour
LOCATION:TBC\, TBC\, Switzerland
X-APPLE-STRUCTURED-LOCATION;VALUE=URI;X-ADDRESS=TBC\, Switzerland;X-APPLE-R
 ADIUS=100;X-TITLE=TBC:geo:0,0
END:VEVENT
BEGIN:VTIMEZONE
TZID:Europe/Zurich
X-LIC-LOCATION:Europe/Zurich
BEGIN:STANDARD
DTSTART:20221030T020000
TZOFFSETFROM:+0200
TZOFFSETTO:+0100
TZNAME:CET
END:STANDARD
END:VTIMEZONE
END:VCALENDAR