BEGIN:VCALENDAR
VERSION:2.0
PRODID:-//wp-events-plugin.com//7.2.3.1//EN
TZID:Europe/Zurich
X-WR-TIMEZONE:Europe/Zurich
BEGIN:VEVENT
UID:54@swissalpineadventure.com
DTSTART;TZID=Europe/Zurich:20220115T070000
DTEND;TZID=Europe/Zurich:20220116T150000
DTSTAMP:20220114T084616Z
URL:https://swissalpineadventure.com/events/off-piste-skills-weekend-ski-2
 /
SUMMARY:Off-Piste Skills Weekend - Improver (Ski)
DESCRIPTION:Improve your off-piste skiing with this course in Rothwald Wall
 is. 
ATTACH;FMTTYPE=image/jpeg:https://swissalpineadventure.com/wp-content/uplo
 ads/2021/03/Video_6553854_DJI_254_mp4_1520174337_121000_2021212124048_vide
 o_original_000118-scaled.jpg
CATEGORIES:Off-Piste Ski,Skills Training,Weekend,Winter Sports
LOCATION:Rothwald\, Schutzhaus\, Rothwald\, Ried-Brig\, Valais/Wallis\, 391
 3\, Brig\, Switzerland
GEO:46.280268;8.036881
X-APPLE-STRUCTURED-LOCATION;VALUE=URI;X-ADDRESS=Schutzhaus\, Rothwald\, Rie
 d-Brig\, Valais/Wallis\, 3913\, Brig\, Switzerland;X-APPLE-RADIUS=100;X-TI
 TLE=Rothwald:geo:46.280268,8.036881
END:VEVENT
BEGIN:VTIMEZONE
TZID:Europe/Zurich
X-LIC-LOCATION:Europe/Zurich
BEGIN:STANDARD
DTSTART:20211031T020000
TZOFFSETFROM:+0200
TZOFFSETTO:+0100
TZNAME:CET
END:STANDARD
END:VTIMEZONE
END:VCALENDAR