BEGIN:VCALENDAR
VERSION:2.0
PRODID:-//wp-events-plugin.com//7.2.3.1//EN
TZID:Europe/Zurich
X-WR-TIMEZONE:Europe/Zurich
BEGIN:VEVENT
UID:116@swissalpineadventure.com
DTSTART;TZID=Europe/Zurich:20220916T170000
DTEND;TZID=Europe/Zurich:20220918T160000
DTSTAMP:20220914T213210Z
URL:https://swissalpineadventure.com/events/mtb-weekend-engadin-intermedia
 te-2/
SUMMARY:MTB Weekend - Engadin (Intermediate)
DESCRIPTION:Join us to ride some single trails in and around the beautiful 
 Engadin valley in early summer. This weekend is for intermediate level mou
 ntain bikers who would like to get out and explore what the Engadin has to
  offer. 
ATTACH;FMTTYPE=image/jpeg:https://swissalpineadventure.com/wp-content/uplo
 ads/2021/02/20160703102733-01.jpeg
CATEGORIES:Intermediate,Mountain Bike,Weekend
LOCATION:Engadin\, Via Nouva\, Celerina/Schlarigna\, Grisons\, 7505\, Maloj
 a\, Switzerland
GEO:46.509858;9.860736
X-APPLE-STRUCTURED-LOCATION;VALUE=URI;X-ADDRESS=Via Nouva\, Celerina/Schlar
 igna\, Grisons\, 7505\, Maloja\, Switzerland;X-APPLE-RADIUS=100;X-TITLE=En
 gadin:geo:46.509858,9.860736
END:VEVENT
BEGIN:VTIMEZONE
TZID:Europe/Zurich
X-LIC-LOCATION:Europe/Zurich
BEGIN:DAYLIGHT
DTSTART:20220327T030000
TZOFFSETFROM:+0100
TZOFFSETTO:+0200
TZNAME:CEST
END:DAYLIGHT
END:VTIMEZONE
END:VCALENDAR