BEGIN:VCALENDAR
VERSION:2.0
PRODID:-//wp-events-plugin.com//7.2.3.1//EN
TZID:Europe/Zurich
X-WR-TIMEZONE:Europe/Zurich
BEGIN:VEVENT
UID:73@swissalpineadventure.com
DTSTART;TZID=Europe/Zurich:20210807T110000
DTEND;TZID=Europe/Zurich:20210807T170000
DTSTAMP:20210804T144759Z
URL:https://swissalpineadventure.com/events/mtb-trail-fun-day-in-davos/
SUMMARY:MTB Trail Fun Day in Davos
DESCRIPTION:We (Anna & Peter) would love to share a couple of our favourite
  local trails in a one-day Mountainbike adventure.
ATTACH;FMTTYPE=image/jpeg:https://swissalpineadventure.com/wp-content/uplo
 ads/2021/07/IMG_9901-scaled.jpg
CATEGORIES:Day Trip,Intermediate,Mountain Bike
LOCATION:Jacobshorn Valley Station\, Jakobshorn Talstation\, Davos Platz\, 
 Grisons\, Prättigau/Davos\, Switzerland
GEO:46.791649;9.822033
X-APPLE-STRUCTURED-LOCATION;VALUE=URI;X-ADDRESS=Jakobshorn Talstation\, Dav
 os Platz\, Grisons\, Prättigau/Davos\, Switzerland;X-APPLE-RADIUS=100;X-T
 ITLE=Jacobshorn Valley Station:geo:46.791649,9.822033
END:VEVENT
BEGIN:VTIMEZONE
TZID:Europe/Zurich
X-LIC-LOCATION:Europe/Zurich
BEGIN:DAYLIGHT
DTSTART:20210328T030000
TZOFFSETFROM:+0100
TZOFFSETTO:+0200
TZNAME:CEST
END:DAYLIGHT
END:VTIMEZONE
END:VCALENDAR