BEGIN:VCALENDAR
VERSION:2.0
PRODID:-//wp-events-plugin.com//7.2.3.1//EN
TZID:Europe/Zurich
X-WR-TIMEZONE:Europe/Zurich
BEGIN:VEVENT
UID:145@swissalpineadventure.com
DTSTART;TZID=Europe/Zurich:20221008T110000
DTEND;TZID=Europe/Zurich:20221008T170000
DTSTAMP:20220923T152915Z
URL:https://swissalpineadventure.com/events/mtb-trail-fun-day-in-davos-3/
SUMMARY:MTB Trail Fun Day in Davos Parsenn &amp\; Chörbschhorn
DESCRIPTION:We (Anna &amp\; Peter) would love to share a couple of our favo
 urite local trails in a one-day Mountainbike adventure. We start in Davos 
 Dorf at 11 am and we plan to ride the Chörbschhorn trail in the Parsenn a
 rea\, one of the most iconic trails of the area. If you still have energy 
 left after the trail\, we always have additional options \;)) (*It depends
  a bit on weather &amp\; conditions) We intend to use the cable car (so yo
 u’ll need a ticket for that)\, and there will still be some additional u
 phill involved. It's only a couple 100m overall\, but they are pretty stee
 p and really high up (&gt\;2000müM). A few parts need to be walked (no ca
 rrying bike necessary). The treat you get is an incredibly cool trail\, it
 's definitely one of our favourites\, as well as some awesome coffee&amp\;
 cake at the Stafelalp. Important to know: To join us\, you need to be comf
 ortable biking on S2 trails with an occasional S3 passage. We are no offic
 ial MTB guides\, so please be aware you need to be able to look after your
 selves and your safety. AND we’re happy to help and tell you all we know
  about mountain biking our home trails\, of course. Who is this for? Inter
 mediate-level (plus) mountain bikers who prefer downhill over uphill and a
 re looking for some flowy alpine trail fun along with nice convos &amp\; c
 onnection. Meeting Point: Davos Dorf in front of the Parsennbahn station\,
  a couple minutes from the railway station. Getting there: From Zurich HB\
 , take the IC3 at 08:38 from platform 8 (please check platform in advance)
 . You will arrive in Davos Dorf at 10:53. Don’t forget to make a bike re
 servation in advance! Cost: You will need a single ride ticket. We can hel
 p you to get a ticket once you arrive (for 45.-) \, or you can book a day 
 ticket in advance on www.davosklostersmountains.ch for 55.- total (human
 +bike)
ATTACH;FMTTYPE=image/jpeg:https://swissalpineadventure.com/wp-content/uplo
 ads/2022/09/181014-08.jpg
CATEGORIES:Day Trip,Intermediate,Mountain Bike
LOCATION:Parsenn Valley Station\, Parsennbahn Talstation\, Davos\, Canton G
 risons\, Prättigau/Davos District\, Switzerland
GEO:46.808274;9.838659
X-APPLE-STRUCTURED-LOCATION;VALUE=URI;X-ADDRESS=Parsennbahn Talstation\, Da
 vos\, Canton Grisons\, Prättigau/Davos District\, Switzerland;X-APPLE-RAD
 IUS=100;X-TITLE=Parsenn Valley Station:geo:46.808274,9.838659
END:VEVENT
BEGIN:VTIMEZONE
TZID:Europe/Zurich
X-LIC-LOCATION:Europe/Zurich
BEGIN:DAYLIGHT
DTSTART:20220327T030000
TZOFFSETFROM:+0100
TZOFFSETTO:+0200
TZNAME:CEST
END:DAYLIGHT
END:VTIMEZONE
END:VCALENDAR