BEGIN:VCALENDAR
VERSION:2.0
PRODID:-//wp-events-plugin.com//7.2.3.1//EN
TZID:Europe/Zurich
X-WR-TIMEZONE:Europe/Zurich
BEGIN:VEVENT
UID:74@swissalpineadventure.com
DTSTART;TZID=Europe/Zurich:20210828T110000
DTEND;TZID=Europe/Zurich:20210828T170000
DTSTAMP:20210823T202233Z
URL:https://swissalpineadventure.com/events/mtb-trail-fun-day-in-davos-2/
SUMMARY:MTB Trail Fun Day in Davos
DESCRIPTION:A fun day of trail riding around Davos with some of our members
  who live there. Get some local knowledge and enjoy some of the best trail
 s the region has to offer while being shown around by "locals".
ATTACH;FMTTYPE=image/jpeg:https://swissalpineadventure.com/wp-content/uplo
 ads/2021/07/IMG_9901-scaled.jpg
CATEGORIES:Day Trip,Intermediate,Mountain Bike
LOCATION:Parsenn Valley Station\, Parsennbahn Talstation\, Davos\, Canton G
 risons\, Prättigau/Davos District\, Switzerland
GEO:46.808274;9.838659
X-APPLE-STRUCTURED-LOCATION;VALUE=URI;X-ADDRESS=Parsennbahn Talstation\, Da
 vos\, Canton Grisons\, Prättigau/Davos District\, Switzerland;X-APPLE-RAD
 IUS=100;X-TITLE=Parsenn Valley Station:geo:46.808274,9.838659
END:VEVENT
BEGIN:VTIMEZONE
TZID:Europe/Zurich
X-LIC-LOCATION:Europe/Zurich
BEGIN:DAYLIGHT
DTSTART:20210328T030000
TZOFFSETFROM:+0100
TZOFFSETTO:+0200
TZNAME:CEST
END:DAYLIGHT
END:VTIMEZONE
END:VCALENDAR