BEGIN:VCALENDAR
VERSION:2.0
PRODID:-//wp-events-plugin.com//7.2.3.1//EN
TZID:Europe/Zurich
X-WR-TIMEZONE:Europe/Zurich
BEGIN:VEVENT
UID:150@swissalpineadventure.com
DTSTART;TZID=Europe/Zurich:20230401T100000
DTEND;TZID=Europe/Zurich:20230401T160000
DTSTAMP:20230330T153951Z
URL:https://swissalpineadventure.com/events/mtb-beginner-intermediate-cour
 se-4/
SUMMARY:MTB Beginner / Intermediate Course
DESCRIPTION:Mountain biking is a great way to enjoy the Swiss scenery. This
  course will give you the skills required to be more comfortable and safer
  when out and about on your bike. The course is suitable for both beginner
  mountain bikers and those with some experience who would like to brush up
  their skills and improve their confidence. 
ATTACH;FMTTYPE=image/jpeg:https://swissalpineadventure.com/wp-content/uplo
 ads/2021/01/IMG_7326-02-2-scaled.jpeg
CATEGORIES:Beginner,Intermediate,Mountain Bike,Skills Training
LOCATION:Zugerberg (Vorder Geissboden)\, Zugerberg (Vorder Geissboden)\, Zu
 g\, Switzerland
GEO:47.143736;8.537074
X-APPLE-STRUCTURED-LOCATION;VALUE=URI;X-ADDRESS=Zugerberg (Vorder Geissbode
 n)\, Zug\, Switzerland;X-APPLE-RADIUS=100;X-TITLE=Zugerberg (Vorder Geissb
 oden):geo:47.143736,8.537074
END:VEVENT
BEGIN:VTIMEZONE
TZID:Europe/Zurich
X-LIC-LOCATION:Europe/Zurich
BEGIN:DAYLIGHT
DTSTART:20230326T030000
TZOFFSETFROM:+0100
TZOFFSETTO:+0200
TZNAME:CEST
END:DAYLIGHT
END:VTIMEZONE
END:VCALENDAR