BEGIN:VCALENDAR
VERSION:2.0
PRODID:-//wp-events-plugin.com//7.2.3.1//EN
TZID:Europe/Zurich
X-WR-TIMEZONE:Europe/Zurich
BEGIN:VEVENT
UID:58@swissalpineadventure.com
DTSTART;TZID=Europe/Zurich:20210605T090000
DTEND;TZID=Europe/Zurich:20210605T160000
DTSTAMP:20210602T165424Z
URL:https://swissalpineadventure.com/events/mtb-beginner-intermediate-cour
 se-2/
SUMMARY:MTB Beginner / Intermediate Course
DESCRIPTION:Mountain biking is a great way to enjoy the Swiss scenery. This
  course will give you the skills required to be more comfortable and safer
  when out and about on your bike. The course is suitable for both beginner
  mountain bikers and those with some experience who would like to brush up
  their skills and improve their confidence. 
ATTACH;FMTTYPE=image/jpeg:https://swissalpineadventure.com/wp-content/uplo
 ads/2021/01/IMG_7326-02-2-scaled.jpeg
CATEGORIES:Beginner,Intermediate,Mountain Bike,Skills Training
LOCATION:Baar Bahnhof\, Baar SBB\, Baar\, Zug\, 6430\, Switzerland
GEO:47.195052;8.523061
X-APPLE-STRUCTURED-LOCATION;VALUE=URI;X-ADDRESS=Baar SBB\, Baar\, Zug\, 643
 0\, Switzerland;X-APPLE-RADIUS=100;X-TITLE=Baar Bahnhof:geo:47.195052,8.52
 3061
END:VEVENT
BEGIN:VTIMEZONE
TZID:Europe/Zurich
X-LIC-LOCATION:Europe/Zurich
BEGIN:DAYLIGHT
DTSTART:20210328T030000
TZOFFSETFROM:+0100
TZOFFSETTO:+0200
TZNAME:CEST
END:DAYLIGHT
END:VTIMEZONE
END:VCALENDAR