BEGIN:VCALENDAR
VERSION:2.0
PRODID:-//wp-events-plugin.com//7.2.3.1//EN
TZID:Europe/Zurich
X-WR-TIMEZONE:Europe/Zurich
BEGIN:VEVENT
UID:119@swissalpineadventure.com
DTSTART;TZID=Europe/Zurich:20220326T091500
DTEND;TZID=Europe/Zurich:20220326T111500
DTSTAMP:20220321T163402Z
URL:https://swissalpineadventure.com/events/mtb-beginner-discover-hardwald
 -forest-near-zurich/
SUMMARY:[MTB - Beginner] - Discover Hardwald forest near Zurich
DESCRIPTION:Ride some easy but sometimes rooty trails and fire roads in the
  Hardwald forest and perhaps stop for a cup of tea towards the end of the 
 ride. 
ATTACH;FMTTYPE=image/jpeg:https://swissalpineadventure.com/wp-content/uplo
 ads/2022/03/clean_486458353.jpeg
CATEGORIES:Afterwork Activity,Beginner,Mountain Bike
LOCATION:Bahnhof Bassersdorf\, Bahnhofstrasse 40\, \, Baltenswil\, Zurich\,
  8303\, Bezirk Bülach\, Switzerland
GEO:47.438596;8.626439
X-APPLE-STRUCTURED-LOCATION;VALUE=URI;X-ADDRESS=Bahnhofstrasse 40\, \, Balt
 enswil\, Zurich\, 8303\, Bezirk Bülach\, Switzerland;X-APPLE-RADIUS=100;X
 -TITLE=Bahnhof Bassersdorf:geo:47.438596,8.626439
END:VEVENT
BEGIN:VTIMEZONE
TZID:Europe/Zurich
X-LIC-LOCATION:Europe/Zurich
BEGIN:STANDARD
DTSTART:20211031T020000
TZOFFSETFROM:+0200
TZOFFSETTO:+0100
TZNAME:CET
END:STANDARD
END:VTIMEZONE
END:VCALENDAR