BEGIN:VCALENDAR
VERSION:2.0
PRODID:-//wp-events-plugin.com//7.2.3.1//EN
TZID:Europe/Zurich
X-WR-TIMEZONE:Europe/Zurich
BEGIN:VEVENT
UID:176@swissalpineadventure.com
DTSTART;TZID=Europe/Zurich:20240307T051500
DTEND;TZID=Europe/Zurich:20240307T064500
DTSTAMP:20240305T062712Z
URL:https://swissalpineadventure.com/events/mtb-beginner-discover-hardwald
 -forest-near-zurich-2/
SUMMARY:[MTB - Beginner] - Discover Hardwald forest near Zurich
DESCRIPTION:\n\nSignup for this event is on our meetup site:\n\n&nbsp\;\nWe
  meet at the Bassersdorf train station and we ride to the Hardwald forest 
 where we will discover some hidden sections with short\, easy\, but someti
 mes rooty single trail sections. The rest of the ride is on fire/forest ro
 ads.\n\n\n\nEvent ends at the start location.\nDuration: 1.5 Hours\nDistan
 ce: 15 km\nWhat to bring:\n-XC or MTB/eMTB with at least front suspension.
 \n\n\n 	Long sleeve and long pants recommended because of the bushes and b
 ranches along the trail\n\nHelmet is mandatory and bike should be in good 
 condition!\nMax No. of Participants:\n3\nAny questions write me a personal
  message on meetup or to szmano@gmail.com\n---- Important! ----\nInsurance
  is the responsibility of the participant\, by RSVPing "yes" you agree to 
 act responsibly at all times on this event and to not hold Swiss Alpine Ad
 venture or any person involved responsible for any injury or loss which ma
 y occur in relation to the event.\nDisclaimer:\nAll participants take part
  in events or activities facilitated by Swiss Alpine Adventure entirely at
  their own risk. Swiss Alpine Adventure do not accept liability for damage
  to property\, death or personal injury that may occur whilst taking part 
 in activities or events organized by Swiss Alpine Adventure. It is your re
 sponsibility to make sure your equipment is maintained and in safe working
  order. We reserve the right to stop you from participating with us if you
 r equipment is badly maintained or not in safe working order. Whilst we en
 deavour to make sure that the information on this website pertaining to ro
 utes and trails is correct\, we do not warrant its completeness or accurac
 y.\n\n
ATTACH;FMTTYPE=image/jpeg:https://swissalpineadventure.com/wp-content/uplo
 ads/2024/03/600_486458353.webp
CATEGORIES:Beginner,Mountain Bike
END:VEVENT
BEGIN:VTIMEZONE
TZID:Europe/Zurich
X-LIC-LOCATION:Europe/Zurich
BEGIN:STANDARD
DTSTART:20231029T020000
TZOFFSETFROM:+0200
TZOFFSETTO:+0100
TZNAME:CET
END:STANDARD
END:VTIMEZONE
END:VCALENDAR