BEGIN:VCALENDAR
VERSION:2.0
PRODID:-//wp-events-plugin.com//7.2.3.1//EN
TZID:Europe/Zurich
X-WR-TIMEZONE:Europe/Zurich
BEGIN:VEVENT
UID:123@swissalpineadventure.com
DTSTART;TZID=Europe/Zurich:20220618T060000
DTEND;TZID=Europe/Zurich:20220619T160000
DTSTAMP:20220429T065125Z
URL:https://swissalpineadventure.com/events/mountaineering-and-glacier-tra
 ining-private/
SUMMARY:Mountaineering and Glacier Training (Private Course)
DESCRIPTION:Private Glacier Trekking/Mountaineering course. Contact us if y
 ou would like us to organise a private course for you. 
ATTACH;FMTTYPE=image/jpeg:https://swissalpineadventure.com/wp-content/uplo
 ads/2022/04/highres_440721239-scaled.jpeg
CATEGORIES:Glacier Trekking,Mountaineering,Skills Training,Weekend
LOCATION:TBC\, TBC\, Switzerland
X-APPLE-STRUCTURED-LOCATION;VALUE=URI;X-ADDRESS=TBC\, Switzerland;X-APPLE-R
 ADIUS=100;X-TITLE=TBC:geo:0,0
END:VEVENT
BEGIN:VTIMEZONE
TZID:Europe/Zurich
X-LIC-LOCATION:Europe/Zurich
BEGIN:DAYLIGHT
DTSTART:20220327T030000
TZOFFSETFROM:+0100
TZOFFSETTO:+0200
TZNAME:CEST
END:DAYLIGHT
END:VTIMEZONE
END:VCALENDAR