BEGIN:VCALENDAR
VERSION:2.0
PRODID:-//wp-events-plugin.com//7.2.3.1//EN
TZID:Europe/Zurich
X-WR-TIMEZONE:Europe/Zurich
BEGIN:VEVENT
UID:121@swissalpineadventure.com
DTSTART;TZID=Europe/Zurich:20220813T060000
DTEND;TZID=Europe/Zurich:20220814T160000
DTSTAMP:20220710T084647Z
URL:https://swissalpineadventure.com/events/mountaineering-1st-4000er-2/
SUMMARY:Mountaineering - 1st 4000er (Cancelled)
DESCRIPTION:Come and join us to climb your 1st 4000m mountain in the Alps. 
 This course will give you your first taste in high alpine mountaineering a
 nd conditions allowing\, your first ascent of an easy 4000m mountain. (All
 alinhorn)
ATTACH;FMTTYPE=image/jpeg:https://swissalpineadventure.com/wp-content/uplo
 ads/2021/03/IMG_3500-scaled.jpg
CATEGORIES:Introduction,Mountaineering,Weekend
LOCATION:Saas Fee\, Postauto Saas Fee\, Saas-Fee\, Valais\, Visp District\,
  Switzerland
GEO:46.108779;7.929235
X-APPLE-STRUCTURED-LOCATION;VALUE=URI;X-ADDRESS=Postauto Saas Fee\, Saas-Fe
 e\, Valais\, Visp District\, Switzerland;X-APPLE-RADIUS=100;X-TITLE=Saas F
 ee:geo:46.108779,7.929235
END:VEVENT
BEGIN:VTIMEZONE
TZID:Europe/Zurich
X-LIC-LOCATION:Europe/Zurich
BEGIN:DAYLIGHT
DTSTART:20220327T030000
TZOFFSETFROM:+0100
TZOFFSETTO:+0200
TZNAME:CEST
END:DAYLIGHT
END:VTIMEZONE
END:VCALENDAR