BEGIN:VCALENDAR
VERSION:2.0
PRODID:-//wp-events-plugin.com//7.2.3.1//EN
TZID:Europe/Zurich
X-WR-TIMEZONE:Europe/Zurich
BEGIN:VEVENT
UID:12@swissalpineadventure.com
DTSTART;TZID=Europe/Zurich:20210430T170000
DTEND;TZID=Europe/Zurich:20210502T170000
DTSTAMP:20210317T191404Z
URL:https://swissalpineadventure.com/events/mountain-bike-weekend/
SUMMARY:Mountain Bike Weekend Verbier
DESCRIPTION:Come and enjoy an early-season bike weekend in one of Switzerla
 nd's most well-known bike regions. Guided by our partners from MTB Verbier
 \, our guides will show us the best springtime trails in the region and ge
 t us ready for a full summer of biking. 
ATTACH;FMTTYPE=image/jpeg:https://swissalpineadventure.com/wp-content/uplo
 ads/2021/01/IMG_8506-scaled.jpg
CATEGORIES:Advanced,Intermediate,Mountain Bike,Weekend
LOCATION:MTB Verbier\, Chemin de Diaro 10\, Champsec\, Valais/Wallis\, 1934
 \, Entremont\, Switzerland
GEO:46.064542;7.236875
X-APPLE-STRUCTURED-LOCATION;VALUE=URI;X-ADDRESS=Chemin de Diaro 10\, Champs
 ec\, Valais/Wallis\, 1934\, Entremont\, Switzerland;X-APPLE-RADIUS=100;X-T
 ITLE=MTB Verbier:geo:46.064542,7.236875
END:VEVENT
BEGIN:VTIMEZONE
TZID:Europe/Zurich
X-LIC-LOCATION:Europe/Zurich
BEGIN:DAYLIGHT
DTSTART:20210328T030000
TZOFFSETFROM:+0100
TZOFFSETTO:+0200
TZNAME:CEST
END:DAYLIGHT
END:VTIMEZONE
END:VCALENDAR