BEGIN:VCALENDAR
VERSION:2.0
PRODID:-//wp-events-plugin.com//7.2.3.1//EN
TZID:Europe/Zurich
X-WR-TIMEZONE:Europe/Zurich
BEGIN:VEVENT
UID:108@swissalpineadventure.com
DTSTART;TZID=Europe/Zurich:20221028T170000
DTEND;TZID=Europe/Zurich:20221030T160000
DTSTAMP:20221022T092613Z
URL:https://swissalpineadventure.com/events/mountain-bike-weekend-verbier/
SUMMARY:Mountain Bike Weekend Verbier
DESCRIPTION:Come and enjoy an end of season bike weekend in one of Switzerl
 and's most well-known bike regions. Guided by our partners from MTB Verbie
 r\, our guides will show us the best autumn trails in the region and help 
 us remember a great summer of biking. 
ATTACH;FMTTYPE=image/jpeg:https://swissalpineadventure.com/wp-content/uplo
 ads/2022/01/1B-home-high.jpg
CATEGORIES:Advanced,Intermediate,Mountain Bike,Weekend
LOCATION:MTB Verbier\, Chemin de Diaro 10\, Champsec\, Valais/Wallis\, 1934
 \, Entremont\, Switzerland
GEO:46.064542;7.236875
X-APPLE-STRUCTURED-LOCATION;VALUE=URI;X-ADDRESS=Chemin de Diaro 10\, Champs
 ec\, Valais/Wallis\, 1934\, Entremont\, Switzerland;X-APPLE-RADIUS=100;X-T
 ITLE=MTB Verbier:geo:46.064542,7.236875
END:VEVENT
BEGIN:VTIMEZONE
TZID:Europe/Zurich
X-LIC-LOCATION:Europe/Zurich
BEGIN:DAYLIGHT
DTSTART:20220327T030000
TZOFFSETFROM:+0100
TZOFFSETTO:+0200
TZNAME:CEST
END:DAYLIGHT
BEGIN:STANDARD
DTSTART:20221030T020000
TZOFFSETFROM:+0200
TZOFFSETTO:+0100
TZNAME:CET
END:STANDARD
END:VTIMEZONE
END:VCALENDAR