BEGIN:VCALENDAR
VERSION:2.0
PRODID:-//wp-events-plugin.com//7.2.3.1//EN
TZID:Europe/Zurich
X-WR-TIMEZONE:Europe/Zurich
BEGIN:VEVENT
UID:42@swissalpineadventure.com
DTSTART;TZID=Europe/Zurich:20210925T070000
DTEND;TZID=Europe/Zurich:20210926T160000
DTSTAMP:20210301T164046Z
URL:https://swissalpineadventure.com/events/mountain-bike-weekend-val-must
 air/
SUMMARY:Mountain Bike Weekend: Val Mustair (Intermediate)
DESCRIPTION:Val Mustair is a beautiful corner of Switzerland with some amaz
 ing mountain biking. Come and join us to explore the trails of this often 
 looked over area of Graubunden with us. 
ATTACH;FMTTYPE=image/jpeg:https://swissalpineadventure.com/wp-content/uplo
 ads/2021/02/IMG_1617-01-scaled.jpeg
CATEGORIES:Intermediate,Mountain Bike,Weekend
LOCATION:Val Mustair\, Schweizerhof\, Santa Maria\, Grisons\, 7536\, Region
  Engiadina Bassa/Val Müstair\, Switzerland
GEO:46.603457;10.426892
X-APPLE-STRUCTURED-LOCATION;VALUE=URI;X-ADDRESS=Schweizerhof\, Santa Maria\
 , Grisons\, 7536\, Region Engiadina Bassa/Val Müstair\, Switzerland;X-APP
 LE-RADIUS=100;X-TITLE=Val Mustair:geo:46.603457,10.426892
END:VEVENT
BEGIN:VTIMEZONE
TZID:Europe/Zurich
X-LIC-LOCATION:Europe/Zurich
BEGIN:DAYLIGHT
DTSTART:20210328T030000
TZOFFSETFROM:+0100
TZOFFSETTO:+0200
TZNAME:CEST
END:DAYLIGHT
END:VTIMEZONE
END:VCALENDAR