BEGIN:VCALENDAR
VERSION:2.0
PRODID:-//wp-events-plugin.com//7.2.3.1//EN
TZID:Europe/Zurich
X-WR-TIMEZONE:Europe/Zurich
BEGIN:VEVENT
UID:103@swissalpineadventure.com
DTSTART;TZID=Europe/Zurich:20211030T093000
DTEND;TZID=Europe/Zurich:20211030T173000
DTSTAMP:20210928T092307Z
URL:https://swissalpineadventure.com/events/last-of-the-summer-mtb-wildspi
 tz/
SUMMARY:Last of the Summer... MTB - Wildspitz
DESCRIPTION:Let's make the most of the last of the longer evenings and get 
 in one last "summer" MTB ride. With the sun setting one hour earlier tomor
 row this ride is the last opportunity to maximise daylight on the bike. 
ATTACH;FMTTYPE=image/jpeg:https://swissalpineadventure.com/wp-content/uplo
 ads/2021/09/IMG_8672-01-scaled.jpeg
CATEGORIES:Day Trip,Intermediate,Mountain Bike
LOCATION:Zug Bahnhof\, Bahnhof\, Zug\, Zug\, 6301\, Zug\, Switzerland
GEO:47.173225;8.514742
X-APPLE-STRUCTURED-LOCATION;VALUE=URI;X-ADDRESS=Bahnhof\, Zug\, Zug\, 6301\
 , Zug\, Switzerland;X-APPLE-RADIUS=100;X-TITLE=Zug Bahnhof:geo:47.173225,8
 .514742
END:VEVENT
BEGIN:VTIMEZONE
TZID:Europe/Zurich
X-LIC-LOCATION:Europe/Zurich
BEGIN:DAYLIGHT
DTSTART:20210328T030000
TZOFFSETFROM:+0100
TZOFFSETTO:+0200
TZNAME:CEST
END:DAYLIGHT
END:VTIMEZONE
END:VCALENDAR