BEGIN:VCALENDAR
VERSION:2.0
PRODID:-//wp-events-plugin.com//7.2.3.1//EN
TZID:Europe/Zurich
X-WR-TIMEZONE:Europe/Zurich
BEGIN:VEVENT
UID:44@swissalpineadventure.com
DTSTART;TZID=Europe/Zurich:20210425T060000
DTEND;TZID=Europe/Zurich:20210428T160000
DTSTAMP:20210317T185531Z
URL:https://swissalpineadventure.com/events/haute-route-lite/
SUMMARY:Haute Route "Lite"
DESCRIPTION:This 4-day tour follows part of the world-famous "Haute Route" 
 from Chamonix to Zermatt. Our version of the tour will take in some of the
  best scenery of the route and save some of the less enjoyable aspects to 
 ensure a memorable few days on your touring skis. 
ATTACH;FMTTYPE=image/jpeg:https://swissalpineadventure.com/wp-content/uplo
 ads/2021/02/IMG_1566-scaled.jpg
CATEGORIES:Skitour,Winter Sports
END:VEVENT
BEGIN:VTIMEZONE
TZID:Europe/Zurich
X-LIC-LOCATION:Europe/Zurich
BEGIN:DAYLIGHT
DTSTART:20210328T030000
TZOFFSETFROM:+0100
TZOFFSETTO:+0200
TZNAME:CEST
END:DAYLIGHT
END:VTIMEZONE
END:VCALENDAR