BEGIN:VCALENDAR
VERSION:2.0
PRODID:-//wp-events-plugin.com//7.2.3.1//EN
TZID:Europe/Zurich
X-WR-TIMEZONE:Europe/Zurich
BEGIN:VEVENT
UID:53@swissalpineadventure.com
DTSTART;TZID=Europe/Zurich:20210731T060000
DTEND;TZID=Europe/Zurich:20210801T160000
DTSTAMP:20210728T083119Z
URL:https://swissalpineadventure.com/events/glacier-trekking-monte-rosa-hu
 t/
SUMMARY:Glacier Trekking - Monte Rosa Hut
DESCRIPTION:Glacier Trekking over the Gorner Glacier to the new Monte Rosa 
 Hut which is one of the most modern huts in the Alps and is a milestone in
  the history of Alpine Refuges. Here you can experience the highest peaks 
 in the Alps and the glacier world up close and personal without having to 
 go to the lengths of climbing the Matterhorn.
ATTACH;FMTTYPE=image/jpeg:https://swissalpineadventure.com/wp-content/uplo
 ads/2021/03/Gletschertrekking_Monte_Rosa_Huette_Wallis_13.jpg
CATEGORIES:Glacier Trekking,Weekend
LOCATION:Zermatt\, Bahnhof Platz\, Zermatt\, Valais/Wallis\, 3920\, Visp\, 
 Switzerland
GEO:46.023725;7.747952
X-APPLE-STRUCTURED-LOCATION;VALUE=URI;X-ADDRESS=Bahnhof Platz\, Zermatt\, V
 alais/Wallis\, 3920\, Visp\, Switzerland;X-APPLE-RADIUS=100;X-TITLE=Zermat
 t:geo:46.023725,7.747952
END:VEVENT
BEGIN:VTIMEZONE
TZID:Europe/Zurich
X-LIC-LOCATION:Europe/Zurich
BEGIN:DAYLIGHT
DTSTART:20210328T030000
TZOFFSETFROM:+0100
TZOFFSETTO:+0200
TZNAME:CEST
END:DAYLIGHT
END:VTIMEZONE
END:VCALENDAR