BEGIN:VCALENDAR
VERSION:2.0
PRODID:-//wp-events-plugin.com//7.2.3.1//EN
TZID:Europe/Zurich
X-WR-TIMEZONE:Europe/Zurich
BEGIN:VEVENT
UID:51@swissalpineadventure.com
DTSTART;TZID=Europe/Zurich:20210911T060000
DTEND;TZID=Europe/Zurich:20210912T160000
DTSTAMP:20210907T074533Z
URL:https://swissalpineadventure.com/events/glacier-trekking-aletsch-glaci
 er/
SUMMARY:Glacier Trekking - Aletsch Glacier
DESCRIPTION:[Cancelled] - Enjoy a two-day hike on the largest glacier in th
 e alps from the Jungfraujoch down over the Aletsch Glacier to Fiescheralp 
 in the Aletsch Arena. Overnight in a mountain hut at 2850m with stunning v
 iews over the surrounding mountains and glaciers. 
ATTACH;FMTTYPE=image/jpeg:https://swissalpineadventure.com/wp-content/uplo
 ads/2021/03/IMG_4196-scaled.jpg
CATEGORIES:Glacier Trekking,Weekend
LOCATION:Jungfraujoch\, Jungfraujoch\, Fieschertal\, Valais/Wallis\, 3823\,
  Goms\, Switzerland
GEO:46.547163;7.982185
X-APPLE-STRUCTURED-LOCATION;VALUE=URI;X-ADDRESS=Jungfraujoch\, Fieschertal\
 , Valais/Wallis\, 3823\, Goms\, Switzerland;X-APPLE-RADIUS=100;X-TITLE=Jun
 gfraujoch:geo:46.547163,7.982185
END:VEVENT
BEGIN:VTIMEZONE
TZID:Europe/Zurich
X-LIC-LOCATION:Europe/Zurich
BEGIN:DAYLIGHT
DTSTART:20210328T030000
TZOFFSETFROM:+0100
TZOFFSETTO:+0200
TZNAME:CEST
END:DAYLIGHT
END:VTIMEZONE
END:VCALENDAR