BEGIN:VCALENDAR
VERSION:2.0
PRODID:-//wp-events-plugin.com//7.2.3.1//EN
TZID:Europe/Zurich
X-WR-TIMEZONE:Europe/Zurich
BEGIN:VEVENT
UID:146@swissalpineadventure.com
DTSTART;TZID=Europe/Zurich:20221126T090000
DTEND;TZID=Europe/Zurich:20221126T160000
DTSTAMP:20221117T212234Z
URL:https://swissalpineadventure.com/events/fun-slopes-day-in-davos-kloste
 rs-edition-1/
SUMMARY:Fun Slopes Day in Davos Klosters Edition 1
DESCRIPTION:With winter on the horizon\, we (Anna &amp\; Peter) would love 
 to share our love for the local mountains on skis&amp\;snowboards. We sugg
 est a fun social day out on skis\, snowboards or possibly snowskates. We p
 lan to go skiing in the Parsenn area of the Davos/Klosters resort. Dependi
 ng on how much snow there will be\, you will possibly be able to access th
 e area in Klosters\, which means less travel! We plan to ride predominantl
 y blue and red slopes. On a casual/friends basis we can offer you tips on 
 your skiing and snowboarding - if you’d like that. Anna is a JO/kids ski
  teacher with a weak spot for carving and great skiing technique and Peter
  has partly grown up with his “Nani” in Klosters and looks like he’s
  kinda glued to his snowboard. However\, if you’d prefer to just ski gro
 omers with great company\, we’re all in\, too. You will need a ticket fo
 r the area\, which you best book online (it’s cheaper!). Important to kn
 ow: To join us\, you need to be comfortable skiing on blues and reds. We a
 re no official ski/snowboard/snowskate teachers\, so please be aware you n
 eed to be able to look after yourselves and your safety. Who is this for? 
 Intermediate-level skiers/snowboarders who want to either just have fun an
 d/or get a few helpful tips for their technique and in any case are up for
  conversations and connection. Meeting Point: Davos Klosters Parsenn-Gotsc
 hna area / Call us as soon as you have arrived! We will access the area fr
 om the Davos side. Getting there: From Zurich HB\, take the IC3 at xx:38. 
 We recommend the one on 07:38 on platform 5. (please re-check platform in 
 advance). Cost: You will need a day ticket\, cost depends on when you book
 . It’s around 70ish CHF for pre-season tickets.
ATTACH;FMTTYPE=image/jpeg:https://swissalpineadventure.com/wp-content/uplo
 ads/2022/11/220303-47.jpg
CATEGORIES:Day Trip,Winter Sports
LOCATION:Parsenn Valley Station\, Parsennbahn Talstation\, Davos\, Canton G
 risons\, Prättigau/Davos District\, Switzerland
GEO:46.808274;9.838659
X-APPLE-STRUCTURED-LOCATION;VALUE=URI;X-ADDRESS=Parsennbahn Talstation\, Da
 vos\, Canton Grisons\, Prättigau/Davos District\, Switzerland;X-APPLE-RAD
 IUS=100;X-TITLE=Parsenn Valley Station:geo:46.808274,9.838659
END:VEVENT
BEGIN:VTIMEZONE
TZID:Europe/Zurich
X-LIC-LOCATION:Europe/Zurich
BEGIN:STANDARD
DTSTART:20221030T020000
TZOFFSETFROM:+0200
TZOFFSETTO:+0100
TZNAME:CET
END:STANDARD
END:VTIMEZONE
END:VCALENDAR