BEGIN:VCALENDAR
VERSION:2.0
PRODID:-//wp-events-plugin.com//7.2.3.1//EN
TZID:Europe/Zurich
X-WR-TIMEZONE:Europe/Zurich
BEGIN:VEVENT
UID:155@swissalpineadventure.com
DTSTART;TZID=Europe/Zurich:20230402T100000
DTEND;TZID=Europe/Zurich:20230402T160000
DTSTAMP:20230324T085534Z
URL:https://swissalpineadventure.com/events/early-season-easy-social-mount
 ain-bike-ride/
SUMMARY:Early Season Easy Social Mountain Bike Ride
DESCRIPTION:Season opening easy mountain bike tour to gently spin the legs 
 and blow the dust and cobwebs off our bikes after a winter in the cellar. 
ATTACH;FMTTYPE=image/jpeg:https://swissalpineadventure.com/wp-content/uplo
 ads/2021/01/IMG_7525-01-scaled.jpeg
CATEGORIES:Beginner,Day Trip,Intermediate,Mountain Bike
LOCATION:Baar Bahnhof\, Baar SBB\, Baar\, Zug\, 6430\, Switzerland
GEO:47.195052;8.523061
X-APPLE-STRUCTURED-LOCATION;VALUE=URI;X-ADDRESS=Baar SBB\, Baar\, Zug\, 643
 0\, Switzerland;X-APPLE-RADIUS=100;X-TITLE=Baar Bahnhof:geo:47.195052,8.52
 3061
END:VEVENT
BEGIN:VTIMEZONE
TZID:Europe/Zurich
X-LIC-LOCATION:Europe/Zurich
BEGIN:DAYLIGHT
DTSTART:20230326T030000
TZOFFSETFROM:+0100
TZOFFSETTO:+0200
TZNAME:CEST
END:DAYLIGHT
END:VTIMEZONE
END:VCALENDAR