BEGIN:VCALENDAR
VERSION:2.0
PRODID:-//wp-events-plugin.com//7.2.3.1//EN
TZID:Europe/Zurich
X-WR-TIMEZONE:Europe/Zurich
BEGIN:VEVENT
UID:156@swissalpineadventure.com
DTSTART;TZID=Europe/Zurich:20230429T100000
DTEND;TZID=Europe/Zurich:20230429T160000
DTSTAMP:20230428T141056Z
URL:https://swissalpineadventure.com/events/early-season-easy-social-mount
 ain-bike-ride-2/
SUMMARY:Easy Social Mountain Bike Ride
DESCRIPTION:Season opening easy mountain bike tour to gently spin the legs 
 and blow the dust and cobwebs off our bikes after a winter in the cellar. 
ATTACH;FMTTYPE=image/jpeg:https://swissalpineadventure.com/wp-content/uplo
 ads/2021/01/IMG_7525-01-scaled.jpeg
CATEGORIES:Beginner,Day Trip,Intermediate,Mountain Bike
LOCATION:Zug Bahnhof\, Bahnhof\, Zug\, Zug\, 6301\, Zug\, Switzerland
GEO:47.173225;8.514742
X-APPLE-STRUCTURED-LOCATION;VALUE=URI;X-ADDRESS=Bahnhof\, Zug\, Zug\, 6301\
 , Zug\, Switzerland;X-APPLE-RADIUS=100;X-TITLE=Zug Bahnhof:geo:47.173225,8
 .514742
END:VEVENT
BEGIN:VTIMEZONE
TZID:Europe/Zurich
X-LIC-LOCATION:Europe/Zurich
BEGIN:DAYLIGHT
DTSTART:20230326T030000
TZOFFSETFROM:+0100
TZOFFSETTO:+0200
TZNAME:CEST
END:DAYLIGHT
END:VTIMEZONE
END:VCALENDAR