BEGIN:VCALENDAR
VERSION:2.0
PRODID:-//wp-events-plugin.com//7.2.3.1//EN
TZID:Europe/Zurich
X-WR-TIMEZONE:Europe/Zurich
BEGIN:VEVENT
UID:125@swissalpineadventure.com
DTSTART;TZID=Europe/Zurich:20220625T100000
DTEND;TZID=Europe/Zurich:20220625T170000
DTSTAMP:20220618T164240Z
URL:https://swissalpineadventure.com/events/davos-rinerhorn-mtb-trails/
SUMMARY:Davos Rinerhorn MTB trails
DESCRIPTION:What will we do\nMeeting at the Davos Platz Bahnhof at 10:00am 
 we will ride down the road to Davos Glaris Rinerhorn lift station. We will
  need a day pass for this lift.\nAt the top we head towards Monstein on un
 dulating single trail some exposed\, some rocky\, some rooty\, some river 
 crossings and some sharp short inclines. As a change from how I normally r
 un this tour we will decent earlier on the route on a little known single 
 trail down into Monstein avoiding the last tougher hilly section which onl
 y leads to a fire road decent.\nFrom Monstein we will head back to Glaris 
 and the uplift. The second decent will be on a steep technical rooty trail
  where we have some options depending on conditions and people's technical
  ability but any option is for more advanced riders.\nWe will again return
  to Glaris and take the lift for the final time. This time opting for a su
 per fun flowy gentle 6km single trail decent to Sertig then cross to the o
 pposite side of the valley for the return leg to Davos.\nThose who think t
 hey know this area or have done the Rinerhorn tour with me previously are 
 likely to discover something new and some local secrets.\nWho is this for\
 nThis is for the more experienced rider as there is likely some double bla
 ck sections.\nAlthough we will be taking the lift this is not an all downh
 ill day and there are some climbs requiring a good level of fitness.\nMost
  important is that you are competent but laid back and come to enjoy some 
 great trails with good company!\nWhere and when\nMeet at the Davos Platz B
 ahnhof at 10:00am\nFinish around 17:00 back in Davos \n&nbsp\;
ATTACH;FMTTYPE=image/jpeg:https://swissalpineadventure.com/wp-content/uplo
 ads/2022/06/DaveRinerhorn.jpg
CATEGORIES:Advanced
END:VEVENT
BEGIN:VTIMEZONE
TZID:Europe/Zurich
X-LIC-LOCATION:Europe/Zurich
BEGIN:DAYLIGHT
DTSTART:20220327T030000
TZOFFSETFROM:+0100
TZOFFSETTO:+0200
TZNAME:CEST
END:DAYLIGHT
END:VTIMEZONE
END:VCALENDAR