BEGIN:VCALENDAR
VERSION:2.0
PRODID:-//wp-events-plugin.com//7.2.3.1//EN
TZID:Europe/Zurich
X-WR-TIMEZONE:Europe/Zurich
BEGIN:VEVENT
UID:57@swissalpineadventure.com
DTSTART;TZID=Europe/Zurich:20210417T083000
DTEND;TZID=Europe/Zurich:20210417T143000
DTSTAMP:20210325T202459Z
URL:https://swissalpineadventure.com/events/bike-sale-in-baar-veloborse/
SUMMARY:Bike Sale in Baar (Velobörse)
DESCRIPTION:The bike sale in Baar is an annual event for the sale and purch
 ase of mainly second hand bikes. We mainly get city bikes and childrens bi
 kes\, but there is always the opportunity to find a road bike\, mountain b
 ike\, ebike or other special item such as a trailer or a tandem.\nIf you w
 ant to sell a bike you can bring it between 8am and 10am. The public get e
 ntry to the sale at 9:30\, but as an SAA member you can have entry at 09:2
 0 to get first choice of the items.\nThe event is held behind the library 
 in Baar - 'Schulhausplatz\, Marktgasse\, 6340 Baar'\nI hope to see some of
  you there and if you have any questions feel free to message me.\nNote: A
 s this is not a normal event\, there is no need to sign up or register. Si
 mply come along on the day!
ATTACH;FMTTYPE=image/jpeg:https://swissalpineadventure.com/wp-content/uplo
 ads/2021/03/IMG_20170520_103358685.jpg
CATEGORIES:Afterwork Activity
END:VEVENT
BEGIN:VTIMEZONE
TZID:Europe/Zurich
X-LIC-LOCATION:Europe/Zurich
BEGIN:DAYLIGHT
DTSTART:20210328T030000
TZOFFSETFROM:+0100
TZOFFSETTO:+0200
TZNAME:CEST
END:DAYLIGHT
END:VTIMEZONE
END:VCALENDAR