BEGIN:VCALENDAR
VERSION:2.0
PRODID:-//wp-events-plugin.com//7.2.3.1//EN
TZID:Europe/Zurich
X-WR-TIMEZONE:Europe/Zurich
BEGIN:VEVENT
UID:97@swissalpineadventure.com
DTSTART;TZID=Europe/Zurich:20220206T060000
DTEND;TZID=Europe/Zurich:20220206T160000
DTSTAMP:20220204T081420Z
URL:https://swissalpineadventure.com/events/beginner-skitour-2022-02-06/
SUMMARY:Beginner Skitour
DESCRIPTION:The perfect opportunity to try Skitouring under the watchful su
 pervision of a qualified UIAGM Mountain guide. Join us and see the mountai
 ns with fresh eyes away from the hustle and bustle of the busy ski resorts
 . 
ATTACH;FMTTYPE=image/jpeg:https://swissalpineadventure.com/wp-content/uplo
 ads/2021/09/20210307091213_IMG_5217-01.jpeg
CATEGORIES:Beginner Ski Tour,Day Trip,Introduction,Skills Training,Skitour
LOCATION:Sihlpost\, Zurich\, Sihlpost\, Zurich\, Zurich\, 8004\, District Z
 urich\, Switzerland
GEO:47.377204;8.535433
X-APPLE-STRUCTURED-LOCATION;VALUE=URI;X-ADDRESS=Sihlpost\, Zurich\, Zurich\
 , 8004\, District Zurich\, Switzerland;X-APPLE-RADIUS=100;X-TITLE=Sihlpost
 \, Zurich:geo:47.377204,8.535433
END:VEVENT
BEGIN:VTIMEZONE
TZID:Europe/Zurich
X-LIC-LOCATION:Europe/Zurich
BEGIN:STANDARD
DTSTART:20211031T020000
TZOFFSETFROM:+0200
TZOFFSETTO:+0100
TZNAME:CET
END:STANDARD
END:VTIMEZONE
END:VCALENDAR