BEGIN:VCALENDAR
VERSION:2.0
PRODID:-//wp-events-plugin.com//7.2.3.1//EN
TZID:Europe/Zurich
X-WR-TIMEZONE:Europe/Zurich
BEGIN:VEVENT
UID:22@swissalpineadventure.com
DTSTART;TZID=Europe/Zurich:20210221T060000
DTEND;TZID=Europe/Zurich:20210221T160000
DTSTAMP:20210215T161205Z
URL:https://swissalpineadventure.com/events/beginner-ski-tour/
SUMMARY:Beginner Ski Tour
DESCRIPTION:An easy ski tour suitable for those just getting into off-piste
  skiing. If you have attended one of our introduction to off-piste events 
 and would like to have some easier tours to get some experience then this 
 tour is for you. 
ATTACH;FMTTYPE=image/jpeg:https://swissalpineadventure.com/wp-content/uplo
 ads/2021/01/IMG_9020-01-scaled.jpeg
CATEGORIES:Beginner,Beginner Ski Tour,Day Trip,Introduction,Off-Piste
 Ski,Skitour
LOCATION:TBC\, TBC\, Switzerland
X-APPLE-STRUCTURED-LOCATION;VALUE=URI;X-ADDRESS=TBC\, Switzerland;X-APPLE-R
 ADIUS=100;X-TITLE=TBC:geo:0,0
END:VEVENT
BEGIN:VTIMEZONE
TZID:Europe/Zurich
X-LIC-LOCATION:Europe/Zurich
BEGIN:STANDARD
DTSTART:20201025T020000
TZOFFSETFROM:+0200
TZOFFSETTO:+0100
TZNAME:CET
END:STANDARD
END:VTIMEZONE
END:VCALENDAR