BEGIN:VCALENDAR
VERSION:2.0
PRODID:-//wp-events-plugin.com//7.2.3.1//EN
TZID:Europe/Zurich
X-WR-TIMEZONE:Europe/Zurich
BEGIN:VEVENT
UID:102@swissalpineadventure.com
DTSTART;TZID=Europe/Zurich:20211218T063000
DTEND;TZID=Europe/Zurich:20211219T160000
DTSTAMP:20211215T175921Z
URL:https://swissalpineadventure.com/events/avalanche-safety-course-level-
 1-2/
SUMMARY:Avalanche Safety Course - Level 1
DESCRIPTION:Bookings closed - Do you like to get off the beaten path and sk
 i/snowboard/snowshoe away from the crowds? Are you interested in learning 
 more about the complexities of snow and how they contribute to avalanche r
 isk? Join our Avalanche Safety Weekend and stay safe this winter. 
ATTACH;FMTTYPE=image/jpeg:https://swissalpineadventure.com/wp-content/uplo
 ads/2013/10/IMG_3653.jpg
CATEGORIES:Avalanche Course,Winter Sports
LOCATION:Oberalppass\, Oberalppass\, Andermatt\, Uri\, 6490\, Korporation U
 rsern\, Switzerland
GEO:46.65875;8.671183
X-APPLE-STRUCTURED-LOCATION;VALUE=URI;X-ADDRESS=Oberalppass\, Andermatt\, U
 ri\, 6490\, Korporation Ursern\, Switzerland;X-APPLE-RADIUS=100;X-TITLE=Ob
 eralppass:geo:46.65875,8.671183
END:VEVENT
BEGIN:VTIMEZONE
TZID:Europe/Zurich
X-LIC-LOCATION:Europe/Zurich
BEGIN:STANDARD
DTSTART:20211031T020000
TZOFFSETFROM:+0200
TZOFFSETTO:+0100
TZNAME:CET
END:STANDARD
END:VTIMEZONE
END:VCALENDAR