BEGIN:VCALENDAR
VERSION:2.0
PRODID:-//wp-events-plugin.com//7.2.3.1//EN
TZID:Europe/Zurich
X-WR-TIMEZONE:Europe/Zurich
BEGIN:VEVENT
UID:13@swissalpineadventure.com
DTSTART;TZID=Europe/Zurich;VALUE=DATE:20210226
DTEND;TZID=Europe/Zurich;VALUE=DATE:20210301
DTSTAMP:20210215T161230Z
URL:https://swissalpineadventure.com/events/at-home-with-our-guides-ticino
 -off-piste/
SUMMARY:At home with our Guides - Ticino (Off-piste)
DESCRIPTION:Join our local guide Luca for three days of skiing in his back 
 yard. The area around Airolo has the main resort of Airolo and also a numb
 er of smaller ski lifts dotted around the region as well as the perfect to
 uring area of the Bedretto Valley. Luca will find the best places to go ov
 er the three days and show you around the region that he calls home. 
ATTACH;FMTTYPE=image/jpeg:https://swissalpineadventure.com/wp-content/uplo
 ads/2021/01/IMG_7302-scaled.jpg
CATEGORIES:Off-Piste Ski,Skitour,Weekend
LOCATION:Airolo\, Train Station\, Airolo\, Ticino\, Leventina District\, Sw
 itzerland
GEO:46.527715;8.60867
X-APPLE-STRUCTURED-LOCATION;VALUE=URI;X-ADDRESS=Train Station\, Airolo\, Ti
 cino\, Leventina District\, Switzerland;X-APPLE-RADIUS=100;X-TITLE=Airolo:
 geo:46.527715,8.60867
END:VEVENT
BEGIN:VTIMEZONE
TZID:Europe/Zurich
X-LIC-LOCATION:Europe/Zurich
BEGIN:STANDARD
DTSTART:20201025T020000
TZOFFSETFROM:+0200
TZOFFSETTO:+0100
TZNAME:CET
END:STANDARD
END:VTIMEZONE
END:VCALENDAR