BEGIN:VCALENDAR
VERSION:2.0
PRODID:-//wp-events-plugin.com//7.2.3.1//EN
TZID:Europe/Zurich
X-WR-TIMEZONE:Europe/Zurich
BEGIN:VEVENT
UID:185@swissalpineadventure.com
DTSTART;TZID=Europe/Zurich:20240611T183000
DTEND;TZID=Europe/Zurich:20240611T210000
DTSTAMP:20240602T121754Z
URL:https://swissalpineadventure.com/events/afterwork-sail/
SUMMARY:Afterwork Sail
DESCRIPTION:A relaxing evening sail on lake Zug after a hard day at work. N
 o experience neccesary.
ATTACH;FMTTYPE=image/jpeg:https://swissalpineadventure.com/wp-content/uplo
 ads/2024/06/31d113248249f6c7b0fde23de238e8e2_-1-01.jpeg
LOCATION:Zug Harbour\, Hafenplatz \, Zug\, Zug\, 6304\, Switzerland
GEO:47.170785;8.506165
X-APPLE-STRUCTURED-LOCATION;VALUE=URI;X-ADDRESS=Hafenplatz \, Zug\, Zug\, 6
 304\, Switzerland;X-APPLE-RADIUS=100;X-TITLE=Zug Harbour:geo:47.170785,8.5
 06165
END:VEVENT
BEGIN:VTIMEZONE
TZID:Europe/Zurich
X-LIC-LOCATION:Europe/Zurich
BEGIN:DAYLIGHT
DTSTART:20240331T030000
TZOFFSETFROM:+0100
TZOFFSETTO:+0200
TZNAME:CEST
END:DAYLIGHT
END:VTIMEZONE
END:VCALENDAR