BEGIN:VCALENDAR
VERSION:2.0
PRODID:-//wp-events-plugin.com//7.2.3.1//EN
TZID:Europe/Zurich
X-WR-TIMEZONE:Europe/Zurich
BEGIN:VEVENT
UID:72@swissalpineadventure.com
DTSTART;TZID=Europe/Zurich:20210909T180000
DTEND;TZID=Europe/Zurich:20210909T203000
DTSTAMP:20210901T073220Z
URL:https://swissalpineadventure.com/events/afterwork-mtb-ride-6/
SUMMARY:Afterwork MTB Ride
DESCRIPTION:Relaxing after-work mountain bike ride in the area around Zug a
 nd Baar finishing at lake Zug to enjoy the famous Zug sunsets. 
ATTACH;FMTTYPE=image/jpeg:https://swissalpineadventure.com/wp-content/uplo
 ads/2021/03/20180511164835-01-scaled.jpeg
CATEGORIES:Afterwork Activity,Intermediate,Mountain Bike
LOCATION:Baar Bahnhof\, Baar SBB\, Baar\, Zug\, 6430\, Switzerland
GEO:47.195052;8.523061
X-APPLE-STRUCTURED-LOCATION;VALUE=URI;X-ADDRESS=Baar SBB\, Baar\, Zug\, 643
 0\, Switzerland;X-APPLE-RADIUS=100;X-TITLE=Baar Bahnhof:geo:47.195052,8.52
 3061
END:VEVENT
BEGIN:VTIMEZONE
TZID:Europe/Zurich
X-LIC-LOCATION:Europe/Zurich
BEGIN:DAYLIGHT
DTSTART:20210328T030000
TZOFFSETFROM:+0100
TZOFFSETTO:+0200
TZNAME:CEST
END:DAYLIGHT
END:VTIMEZONE
END:VCALENDAR