BEGIN:VCALENDAR
VERSION:2.0
PRODID:-//wp-events-plugin.com//7.2.3.1//EN
TZID:Europe/Zurich
X-WR-TIMEZONE:Europe/Zurich
BEGIN:VEVENT
UID:131@swissalpineadventure.com
DTSTART;TZID=Europe/Zurich:20220723T090000
DTEND;TZID=Europe/Zurich:20220727T170000
DTSTAMP:20220719T113903Z
URL:https://swissalpineadventure.com/events/2-day-mtb-non-guided-advanced-
 ride-with-sleeping-in-mountain-hut/
SUMMARY:2 day MTB - NON GUIDED\,   Advanced Ride with sleeping in mountain 
 hut
DESCRIPTION:Number of places: 2This is not a beginner ride\, you should hav
 e previous high alpinebiking experience\, not afraid to ride some sections
  with exposure!!!Riding level based on https://itrs.bike/ or S2+ on the 
 S scaleTechnical Difficulty: red - AdvancedEndurance: blue - Occasional tr
 ainingExposure: blue - High riskWilderness: blue - Some planning neededWhe
 re: Lenzerheide\, Arosa\, Ramoshutte SACPrice: Sleeping in hut is 20 CHF f
 or SAC members\, 30 otherwise +cablecar tickets day 1 from Chur + Lenzerhe
 ide to Parpaner Rothorn\, day 2from Arosa to HörnliWhat to bring:- Clothe
 s for high alpine riding\, knee\, elbow protection- spare tube- MTB in goo
 d working condition\, at minimum mid travel full suspensionis recommended 
 (130mm travel up)- Helmet is mandatory!- Sleeping bag liner (Schlafsack-In
 lett in german) is mandatory. Thehut has blankets and pillows- Dry food/sa
 ndwich/instant food or whatever you want to eat fordinner in the hut. Ther
 e is option to boil waterSleeping: bed in shared room in hutTour descripti
 on:We will meet at Chur Bergbahnen (Brambrüesch) cable car entrance onSat
 urday at 9 AMIf you are coming from Zurich direction for example\, you can
  take forexample IR 35 train which starts at 7:12 from Zurich HBFrom there
  following some part of the bike ticket to ride red we rideto Lenzerheide 
 (https://arosalenzerheide.swiss/de/Region/Touren/616-Biketicket-to-ride-ro
 t_tour_2811055)We take the gondola from Lenzerheide to the Parpaner Rothor
 n and fromthere we ride down to Arosa on natural/flow trailWe pedal up\, h
 ike our bikes from Arosa to Ramoshutte (700 m up) wherewe make our dinner 
 and spend the nightSunday morning we ride down back to Arosa and with the 
 assistance of acable car we ride back to Lenzerheide and back to Chur and 
 thenhome...\n
ATTACH;FMTTYPE=image/jpeg:https://swissalpineadventure.com/wp-content/uplo
 ads/2022/07/Arosa.jpg
CATEGORIES:Advanced
LOCATION:https://goo.gl/maps/xBFwHGfkakHTPn4E9
END:VEVENT
BEGIN:VTIMEZONE
TZID:Europe/Zurich
X-LIC-LOCATION:Europe/Zurich
BEGIN:DAYLIGHT
DTSTART:20220327T030000
TZOFFSETFROM:+0100
TZOFFSETTO:+0200
TZNAME:CEST
END:DAYLIGHT
END:VTIMEZONE
END:VCALENDAR